BEGIN:VCALENDAR
VERSION:2.0
PRODID:-//wp-events-plugin.com//7.2.3.1//EN
TZID:Europe/Paris
X-WR-TIMEZONE:Europe/Paris
BEGIN:VEVENT
UID:10317@agenda24.fr
DTSTART;TZID=Europe/Paris:20251220T203000
DTEND;TZID=Europe/Paris:20251220T203000
DTSTAMP:20251210T134619Z
URL:https://agenda24.fr/evenements/loto-de-noel-du-basket/
SUMMARY:Loto de Noël du Basket
DESCRIPTION:Le club de basket de Villefranche organise un LOTO de Noël !\n
 Rendez-vous le samedi 20 décembre dès 20h30 au Foyer Rural. \nDe nombreu
 x lots sont à gagner. Bourriche : 2€ les 5 tickets. \nSur place : Buvet
 te\, sandwichs\, crêpes. 
CATEGORIES:Jeux
LOCATION:Foyer rural\, Place de la Liberté\, Villefranche-du-Périgord\, F
 rance
GEO:44.6306374;1.0756011
X-APPLE-STRUCTURED-LOCATION;VALUE=URI;X-ADDRESS=Place de la Liberté\, Vill
 efranche-du-Périgord\, France;X-APPLE-RADIUS=100;X-TITLE=Foyer rural:geo:
 44.6306374,1.0756011
END:VEVENT
BEGIN:VTIMEZONE
TZID:Europe/Paris
X-LIC-LOCATION:Europe/Paris
BEGIN:STANDARD
DTSTART:20251026T020000
TZOFFSETFROM:+0200
TZOFFSETTO:+0100
TZNAME:CET
END:STANDARD
END:VTIMEZONE
END:VCALENDAR