BEGIN:VCALENDAR
VERSION:2.0
PRODID:-//wp-events-plugin.com//7.2.3.1//EN
TZID:Europe/Paris
X-WR-TIMEZONE:Europe/Paris
BEGIN:VEVENT
UID:10306@agenda24.fr
DTSTART;TZID=Europe/Paris:20251212T203000
DTEND;TZID=Europe/Paris:20251212T203000
DTSTAMP:20251210T134620Z
URL:https://agenda24.fr/evenements/loto-de-noel-2/
SUMMARY:Loto de Noël
DESCRIPTION: Loto de Noël à 20h30\, foyer rural. \nAsso des St Laurent\n\
 n\n
CATEGORIES:Jeux
LOCATION:Saint-Laurent-Des-Hommes\, Saint-Laurent-Des-Hommes\, Saint-Lauren
 t-Des-Hommes\, France
GEO:45.0371591;0.25415928
X-APPLE-STRUCTURED-LOCATION;VALUE=URI;X-ADDRESS=Saint-Laurent-Des-Hommes\, 
 Saint-Laurent-Des-Hommes\, France;X-APPLE-RADIUS=100;X-TITLE=Saint-Laurent
 -Des-Hommes:geo:45.0371591,0.25415928
END:VEVENT
BEGIN:VTIMEZONE
TZID:Europe/Paris
X-LIC-LOCATION:Europe/Paris
BEGIN:STANDARD
DTSTART:20251026T020000
TZOFFSETFROM:+0200
TZOFFSETTO:+0100
TZNAME:CET
END:STANDARD
END:VTIMEZONE
END:VCALENDAR