BEGIN:VCALENDAR
VERSION:2.0
PRODID:-//wp-events-plugin.com//7.2.3.1//EN
TZID:Europe/Paris
X-WR-TIMEZONE:Europe/Paris
BEGIN:VEVENT
UID:10305@agenda24.fr
DTSTART;TZID=Europe/Paris:20251213T203000
DTEND;TZID=Europe/Paris:20251213T203000
DTSTAMP:20251210T134620Z
URL:https://agenda24.fr/evenements/loto-de-lecole-de-montignac-lascaux/
SUMMARY:Loto de l'école de Montignac-Lascaux
DESCRIPTION:L'école a plein de projets\, pour aider au financement un loto
  est organisé! N'hésitez pas à venir passer une bonne soirée pour une 
 bonne action !\nOuverture des portes à 19h.\n\nA gagner :\nUn téléviseu
 r\nUn bon d'achat de 100€\nUn robot pâtissier\, un airfryer et de nombr
 eux autres lots.\n\nTombola des enfants.\n\nBuvette\, sandwichs\, crêpes
CATEGORIES:Jeux
LOCATION:Salle des fêtes\, 15 Place Élie Lacoste\, Montignac\, France
GEO:45.0658669;1.1671474
X-APPLE-STRUCTURED-LOCATION;VALUE=URI;X-ADDRESS=15 Place Élie Lacoste\, Mo
 ntignac\, France;X-APPLE-RADIUS=100;X-TITLE=Salle des fêtes:geo:45.065866
 9,1.1671474
END:VEVENT
BEGIN:VTIMEZONE
TZID:Europe/Paris
X-LIC-LOCATION:Europe/Paris
BEGIN:STANDARD
DTSTART:20251026T020000
TZOFFSETFROM:+0200
TZOFFSETTO:+0100
TZNAME:CET
END:STANDARD
END:VTIMEZONE
END:VCALENDAR