BEGIN:VCALENDAR
VERSION:2.0
PRODID:-//wp-events-plugin.com//7.2.3.1//EN
TZID:Europe/Paris
X-WR-TIMEZONE:Europe/Paris
BEGIN:VEVENT
UID:3911@agenda24.fr
DTSTART;TZID=Europe/Paris:20241130T203000
DTEND;TZID=Europe/Paris:20241130T203000
DTSTAMP:20241030T085618Z
URL:https://agenda24.fr/evenements/loto-de-la-petanque-joyeuse-2/
SUMMARY:Loto de la pétanque joyeuse
DESCRIPTION:
CATEGORIES:Jeux
LOCATION:Foyer Municipal\, rue Henri Laborde\, Montpon-Ménestérol\, Franc
 e
GEO:45.0087231;0.16033219
X-APPLE-STRUCTURED-LOCATION;VALUE=URI;X-ADDRESS=rue Henri Laborde\, Montpon
 -Ménestérol\, France;X-APPLE-RADIUS=100;X-TITLE=Foyer Municipal:geo:45.0
 087231,0.16033219
END:VEVENT
BEGIN:VTIMEZONE
TZID:Europe/Paris
X-LIC-LOCATION:Europe/Paris
BEGIN:STANDARD
DTSTART:20241027T020000
TZOFFSETFROM:+0200
TZOFFSETTO:+0100
TZNAME:CET
END:STANDARD
END:VTIMEZONE
END:VCALENDAR