BEGIN:VCALENDAR
VERSION:2.0
PRODID:-//wp-events-plugin.com//7.2.3.1//EN
TZID:Europe/Paris
X-WR-TIMEZONE:Europe/Paris
BEGIN:VEVENT
UID:10311@agenda24.fr
DTSTART;TZID=Europe/Paris:20251213T203000
DTEND;TZID=Europe/Paris:20251213T203000
DTSTAMP:20251210T134620Z
URL:https://agenda24.fr/evenements/loto-79/
SUMMARY:Loto
DESCRIPTION:Loto animé par Jean Marie. Ouverture des portes dès 19h. Buve
 ttes\, crêpes & gâteaux sur place.
CATEGORIES:Jeux
LOCATION:Espace culturel\, Espace culturel\, La Coquille\, France
GEO:45.5401558;0.97463626
X-APPLE-STRUCTURED-LOCATION;VALUE=URI;X-ADDRESS=Espace culturel\, La Coquil
 le\, France;X-APPLE-RADIUS=100;X-TITLE=Espace culturel:geo:45.5401558,0.97
 463626
END:VEVENT
BEGIN:VTIMEZONE
TZID:Europe/Paris
X-LIC-LOCATION:Europe/Paris
BEGIN:STANDARD
DTSTART:20251026T020000
TZOFFSETFROM:+0200
TZOFFSETTO:+0100
TZNAME:CET
END:STANDARD
END:VTIMEZONE
END:VCALENDAR