BEGIN:VCALENDAR
VERSION:2.0
PRODID:-//wp-events-plugin.com//7.2.3.1//EN
TZID:Europe/Paris
X-WR-TIMEZONE:Europe/Paris
BEGIN:VEVENT
UID:10319@agenda24.fr
DTSTART;TZID=Europe/Paris:20251220T203000
DTEND;TZID=Europe/Paris:20251220T203000
DTSTAMP:20251210T134619Z
URL:https://agenda24.fr/evenements/loto-78/
SUMMARY:Loto
DESCRIPTION:Ouverture des portes à 19h. Buvette\, café\, gâteaux.
CATEGORIES:Jeux
LOCATION:Salle des fêtes\, Salle des fêtes\, Nontron\, France
GEO:45.5308372;0.6637118
X-APPLE-STRUCTURED-LOCATION;VALUE=URI;X-ADDRESS=Salle des fêtes\, Nontron\
 , France;X-APPLE-RADIUS=100;X-TITLE=Salle des fêtes:geo:45.5308372,0.6637
 118
END:VEVENT
BEGIN:VTIMEZONE
TZID:Europe/Paris
X-LIC-LOCATION:Europe/Paris
BEGIN:STANDARD
DTSTART:20251026T020000
TZOFFSETFROM:+0200
TZOFFSETTO:+0100
TZNAME:CET
END:STANDARD
END:VTIMEZONE
END:VCALENDAR