BEGIN:VCALENDAR
VERSION:2.0
PRODID:-//wp-events-plugin.com//7.2.3.1//EN
TZID:Europe/Paris
X-WR-TIMEZONE:Europe/Paris
BEGIN:VEVENT
UID:10320@agenda24.fr
DTSTART;TZID=Europe/Paris:20251221T130000
DTEND;TZID=Europe/Paris:20251221T130000
DTSTAMP:20251210T134619Z
URL:https://agenda24.fr/evenements/loto-77/
SUMMARY:Loto
DESCRIPTION:Le club de l'âge d'or organise un loto \, avec ouverture des p
 ortes à 13h et début à 14h.\n\nPrix du carton 1.50€ + 1 carton offert
  à chaque participant\nBuvette\, crêpes maison.
CATEGORIES:Jeux
LOCATION:Espace socio-culturel\, Espace socio-culturel\, Prigonrieux\, Fran
 ce
GEO:44.8551539;0.40238456
X-APPLE-STRUCTURED-LOCATION;VALUE=URI;X-ADDRESS=Espace socio-culturel\, Pri
 gonrieux\, France;X-APPLE-RADIUS=100;X-TITLE=Espace socio-culturel:geo:44.
 8551539,0.40238456
END:VEVENT
BEGIN:VTIMEZONE
TZID:Europe/Paris
X-LIC-LOCATION:Europe/Paris
BEGIN:STANDARD
DTSTART:20251026T020000
TZOFFSETFROM:+0200
TZOFFSETTO:+0100
TZNAME:CET
END:STANDARD
END:VTIMEZONE
END:VCALENDAR