BEGIN:VCALENDAR
VERSION:2.0
PRODID:-//wp-events-plugin.com//7.2.3.1//EN
TZID:Europe/Paris
X-WR-TIMEZONE:Europe/Paris
BEGIN:VEVENT
UID:5922@agenda24.fr
DTSTART;TZID=Europe/Paris:20250429T140000
DTEND;TZID=Europe/Paris:20250429T170000
DTSTAMP:20250326T140658Z
URL:https://agenda24.fr/evenements/loto-53/
SUMMARY:Loto
DESCRIPTION:Loto à la salle des fêtes organisé par le Maillon d'Or du Cl
 ub des Aînés 
CATEGORIES:Jeux
LOCATION:Salle des fêtes\, Le bourg\, Villefranche-de-Lonchat\, France
GEO:44.9187707;0.0554211
X-APPLE-STRUCTURED-LOCATION;VALUE=URI;X-ADDRESS=Le bourg\, Villefranche-de-
 Lonchat\, France;X-APPLE-RADIUS=100;X-TITLE=Salle des fêtes:geo:44.918770
 7,0.0554211
END:VEVENT
BEGIN:VTIMEZONE
TZID:Europe/Paris
X-LIC-LOCATION:Europe/Paris
BEGIN:DAYLIGHT
DTSTART:20250330T030000
TZOFFSETFROM:+0100
TZOFFSETTO:+0200
TZNAME:CEST
END:DAYLIGHT
END:VTIMEZONE
END:VCALENDAR