BEGIN:VCALENDAR
VERSION:2.0
PRODID:-//wp-events-plugin.com//7.2.3.1//EN
TZID:Europe/Paris
X-WR-TIMEZONE:Europe/Paris
BEGIN:VEVENT
UID:5919@agenda24.fr
DTSTART;TZID=Europe/Paris:20250330T140000
DTEND;TZID=Europe/Paris:20250330T140000
DTSTAMP:20250326T140657Z
URL:https://agenda24.fr/evenements/loto-50/
SUMMARY:Loto
DESCRIPTION:Loto organisé par l'Amicale Laïque du Montignacois et l'Espac
 e du Temps Libre.\n\nNombreux lots à gagner :\nbons d'achat de 400€\, 2
 00€\nAspirateur sans fil\, cafetière\nService à raclette\nBons spectac
 les et visites sites\nEt nombreux autres lots.\n\nBourriche. Buvette\, pâ
 tisseries\n\nOuverture des portes à 13h
CATEGORIES:Jeux
LOCATION:Salle des fêtes\, Place Élie Lacoste\, Montignac\, France
GEO:45.0658704;1.16703795
X-APPLE-STRUCTURED-LOCATION;VALUE=URI;X-ADDRESS=Place Élie Lacoste\, Monti
 gnac\, France;X-APPLE-RADIUS=100;X-TITLE=Salle des fêtes:geo:45.0658704,1
 .16703795
END:VEVENT
BEGIN:VTIMEZONE
TZID:Europe/Paris
X-LIC-LOCATION:Europe/Paris
BEGIN:DAYLIGHT
DTSTART:20250330T030000
TZOFFSETFROM:+0100
TZOFFSETTO:+0200
TZNAME:CEST
END:DAYLIGHT
END:VTIMEZONE
END:VCALENDAR