BEGIN:VCALENDAR
VERSION:2.0
PRODID:-//wp-events-plugin.com//7.2.3.1//EN
TZID:Europe/Paris
X-WR-TIMEZONE:Europe/Paris
BEGIN:VEVENT
UID:5918@agenda24.fr
DTSTART;TZID=Europe/Paris:20250329T204500
DTEND;TZID=Europe/Paris:20250329T204500
DTSTAMP:20250326T140657Z
URL:https://agenda24.fr/evenements/loto-49/
SUMMARY:Loto
DESCRIPTION:
CATEGORIES:Jeux
LOCATION:Salle des fêtes\, Salle des fêtes\, Thiviers\, France
GEO:45.41918;0.92284
X-APPLE-STRUCTURED-LOCATION;VALUE=URI;X-ADDRESS=Salle des fêtes\, Thiviers
 \, France;X-APPLE-RADIUS=100;X-TITLE=Salle des fêtes:geo:45.41918,0.92284
END:VEVENT
BEGIN:VTIMEZONE
TZID:Europe/Paris
X-LIC-LOCATION:Europe/Paris
BEGIN:STANDARD
DTSTART:20241027T020000
TZOFFSETFROM:+0200
TZOFFSETTO:+0100
TZNAME:CET
END:STANDARD
END:VTIMEZONE
END:VCALENDAR