BEGIN:VCALENDAR
VERSION:2.0
PRODID:-//wp-events-plugin.com//7.2.3.1//EN
TZID:Europe/Paris
X-WR-TIMEZONE:Europe/Paris
BEGIN:VEVENT
UID:5917@agenda24.fr
DTSTART;TZID=Europe/Paris:20250412T180000
DTEND;TZID=Europe/Paris:20250412T230000
DTSTAMP:20250326T140657Z
URL:https://agenda24.fr/evenements/loto-48/
SUMMARY:Loto
DESCRIPTION:Loto animé par Carole et Thierry. 16 parties. Buvette. Pâtiss
 eries. Tombola.\n
CATEGORIES:Jeux
LOCATION:Salle des fêtes\, Salle des fêtes\, Mareuil\, France
GEO:45.4464495;0.45378061
X-APPLE-STRUCTURED-LOCATION;VALUE=URI;X-ADDRESS=Salle des fêtes\, Mareuil\
 , France;X-APPLE-RADIUS=100;X-TITLE=Salle des fêtes:geo:45.4464495,0.4537
 8061
END:VEVENT
BEGIN:VTIMEZONE
TZID:Europe/Paris
X-LIC-LOCATION:Europe/Paris
BEGIN:DAYLIGHT
DTSTART:20250330T030000
TZOFFSETFROM:+0100
TZOFFSETTO:+0200
TZNAME:CEST
END:DAYLIGHT
END:VTIMEZONE
END:VCALENDAR