BEGIN:VCALENDAR
VERSION:2.0
PRODID:-//wp-events-plugin.com//7.2.3.1//EN
TZID:Europe/Paris
X-WR-TIMEZONE:Europe/Paris
BEGIN:VEVENT
UID:5916@agenda24.fr
DTSTART;TZID=Europe/Paris:20250329T200000
DTEND;TZID=Europe/Paris:20250329T200000
DTSTAMP:20250326T140657Z
URL:https://agenda24.fr/evenements/loto-47/
SUMMARY:Loto
DESCRIPTION:Loto de chasse.
CATEGORIES:Jeux
LOCATION:Salle des fêtes\, Salle des fêtes\, Sainte-Croix-de-Mareuil\, Fr
 ance
GEO:45.4617057;0.42633842
X-APPLE-STRUCTURED-LOCATION;VALUE=URI;X-ADDRESS=Salle des fêtes\, Sainte-C
 roix-de-Mareuil\, France;X-APPLE-RADIUS=100;X-TITLE=Salle des fêtes:geo:4
 5.4617057,0.42633842
END:VEVENT
BEGIN:VTIMEZONE
TZID:Europe/Paris
X-LIC-LOCATION:Europe/Paris
BEGIN:STANDARD
DTSTART:20241027T020000
TZOFFSETFROM:+0200
TZOFFSETTO:+0100
TZNAME:CET
END:STANDARD
END:VTIMEZONE
END:VCALENDAR