BEGIN:VCALENDAR
VERSION:2.0
PRODID:-//wp-events-plugin.com//7.2.3.1//EN
TZID:Europe/Paris
X-WR-TIMEZONE:Europe/Paris
BEGIN:VEVENT
UID:5915@agenda24.fr
DTSTART;TZID=Europe/Paris:20250406T140000
DTEND;TZID=Europe/Paris:20250406T140000
DTSTAMP:20250326T140657Z
URL:https://agenda24.fr/evenements/loto-46/
SUMMARY:Loto
DESCRIPTION:Ouverture des portes 13h. Nombreux lots à gagner.
CATEGORIES:Jeux
LOCATION:Salle des fêtes\, Salle des fêtes\, Teyjat\, France
GEO:45.58528;0.57527
X-APPLE-STRUCTURED-LOCATION;VALUE=URI;X-ADDRESS=Salle des fêtes\, Teyjat\,
  France;X-APPLE-RADIUS=100;X-TITLE=Salle des fêtes:geo:45.58528,0.57527
END:VEVENT
BEGIN:VTIMEZONE
TZID:Europe/Paris
X-LIC-LOCATION:Europe/Paris
BEGIN:DAYLIGHT
DTSTART:20250330T030000
TZOFFSETFROM:+0100
TZOFFSETTO:+0200
TZNAME:CEST
END:DAYLIGHT
END:VTIMEZONE
END:VCALENDAR