BEGIN:VCALENDAR
VERSION:2.0
PRODID:-//wp-events-plugin.com//7.2.3.1//EN
TZID:Europe/Paris
X-WR-TIMEZONE:Europe/Paris
BEGIN:VEVENT
UID:5925@agenda24.fr
DTSTART;TZID=Europe/Paris:20250405T200000
DTEND;TZID=Europe/Paris:20250405T200000
DTSTAMP:20250326T140656Z
URL:https://agenda24.fr/evenements/loto-43/
SUMMARY:Loto
DESCRIPTION:Loto organisé à la salle des fêtes de Montcaret\, à 20h.
CATEGORIES:Jeux
LOCATION:Salle des fêtes\, Salle des fêtes \, Montcaret\, France
GEO:44.85882;0.06851
X-APPLE-STRUCTURED-LOCATION;VALUE=URI;X-ADDRESS=Salle des fêtes \, Montcar
 et\, France;X-APPLE-RADIUS=100;X-TITLE=Salle des fêtes:geo:44.85882,0.068
 51
END:VEVENT
BEGIN:VTIMEZONE
TZID:Europe/Paris
X-LIC-LOCATION:Europe/Paris
BEGIN:DAYLIGHT
DTSTART:20250330T030000
TZOFFSETFROM:+0100
TZOFFSETTO:+0200
TZNAME:CEST
END:DAYLIGHT
END:VTIMEZONE
END:VCALENDAR