BEGIN:VCALENDAR
VERSION:2.0
PRODID:-//wp-events-plugin.com//7.2.3.1//EN
TZID:Europe/Paris
X-WR-TIMEZONE:Europe/Paris
BEGIN:VEVENT
UID:3908@agenda24.fr
DTSTART;TZID=Europe/Paris:20241116T193000
DTEND;TZID=Europe/Paris:20241116T193000
DTSTAMP:20241030T085240Z
URL:https://agenda24.fr/evenements/loto-25/
SUMMARY:Loto
DESCRIPTION:
CATEGORIES:Jeux
LOCATION:Espace socio-culturel\, Espace socio-culturel\, Saint-Estephe\, Fr
 ance
GEO:45.59157;0.66307
X-APPLE-STRUCTURED-LOCATION;VALUE=URI;X-ADDRESS=Espace socio-culturel\, Sai
 nt-Estephe\, France;X-APPLE-RADIUS=100;X-TITLE=Espace socio-culturel:geo:4
 5.59157,0.66307
END:VEVENT
BEGIN:VTIMEZONE
TZID:Europe/Paris
X-LIC-LOCATION:Europe/Paris
BEGIN:STANDARD
DTSTART:20241027T020000
TZOFFSETFROM:+0200
TZOFFSETTO:+0100
TZNAME:CET
END:STANDARD
END:VTIMEZONE
END:VCALENDAR