BEGIN:VCALENDAR
VERSION:2.0
PRODID:-//wp-events-plugin.com//7.2.3.1//EN
TZID:Europe/Paris
X-WR-TIMEZONE:Europe/Paris
BEGIN:VEVENT
UID:3917@agenda24.fr
DTSTART;TZID=Europe/Paris:20241103T140000
DTEND;TZID=Europe/Paris:20241103T140000
DTSTAMP:20241030T085240Z
URL:https://agenda24.fr/evenements/loto-23/
SUMMARY:Loto
DESCRIPTION:
CATEGORIES:Jeux
LOCATION:Gymnase du Roc\, Gymnase du Roc\, Saint-Astier\, France
GEO:45.1406756;0.53079086
X-APPLE-STRUCTURED-LOCATION;VALUE=URI;X-ADDRESS=Gymnase du Roc\, Saint-Asti
 er\, France;X-APPLE-RADIUS=100;X-TITLE=Gymnase du Roc:geo:45.1406756,0.530
 79086
END:VEVENT
BEGIN:VTIMEZONE
TZID:Europe/Paris
X-LIC-LOCATION:Europe/Paris
BEGIN:STANDARD
DTSTART:20241027T020000
TZOFFSETFROM:+0200
TZOFFSETTO:+0100
TZNAME:CET
END:STANDARD
END:VTIMEZONE
END:VCALENDAR