BEGIN:VCALENDAR
VERSION:2.0
PRODID:-//wp-events-plugin.com//7.2.3.1//EN
TZID:Europe/Paris
X-WR-TIMEZONE:Europe/Paris
BEGIN:VEVENT
UID:3926@agenda24.fr
DTSTART;TZID=Europe/Paris:20241117T150000
DTEND;TZID=Europe/Paris:20241117T150000
DTSTAMP:20241030T085239Z
URL:https://agenda24.fr/evenements/loto-20/
SUMMARY:Loto
DESCRIPTION:
CATEGORIES:Jeux
LOCATION:Salle des fêtes\, Salle des fêtes\, Carsac-de-Gurson\, France
GEO:44.9463976;0.09112300
X-APPLE-STRUCTURED-LOCATION;VALUE=URI;X-ADDRESS=Salle des fêtes\, Carsac-d
 e-Gurson\, France;X-APPLE-RADIUS=100;X-TITLE=Salle des fêtes:geo:44.94639
 76,0.09112300
END:VEVENT
BEGIN:VTIMEZONE
TZID:Europe/Paris
X-LIC-LOCATION:Europe/Paris
BEGIN:STANDARD
DTSTART:20241027T020000
TZOFFSETFROM:+0200
TZOFFSETTO:+0100
TZNAME:CET
END:STANDARD
END:VTIMEZONE
END:VCALENDAR