BEGIN:VCALENDAR
VERSION:2.0
PRODID:-//wp-events-plugin.com//7.2.3.1//EN
TZID:Europe/Paris
X-WR-TIMEZONE:Europe/Paris
BEGIN:VEVENT
UID:4008@agenda24.fr
DTSTART;TZID=Europe/Paris:20241210T130000
DTEND;TZID=Europe/Paris:20241210T133000
DTSTAMP:20241030T091147Z
URL:https://agenda24.fr/evenements/loeuvre-du-cafe-les-vitraux-de-leglise-
 saint-jacques/
SUMMARY:L'oeuvre du café - les vitraux de l'Eglise Saint-Jacques
DESCRIPTION:
CATEGORIES:Tourisme / Patrimoine
LOCATION:Eglise Saint-Jacques\, Rue Saint-Jacques\, Bergerac\, France
GEO:44.8515498;0.48295540
X-APPLE-STRUCTURED-LOCATION;VALUE=URI;X-ADDRESS=Rue Saint-Jacques\, Bergera
 c\, France;X-APPLE-RADIUS=100;X-TITLE=Eglise Saint-Jacques:geo:44.8515498,
 0.48295540
END:VEVENT
BEGIN:VTIMEZONE
TZID:Europe/Paris
X-LIC-LOCATION:Europe/Paris
BEGIN:STANDARD
DTSTART:20241027T020000
TZOFFSETFROM:+0200
TZOFFSETTO:+0100
TZNAME:CET
END:STANDARD
END:VTIMEZONE
END:VCALENDAR