BEGIN:VCALENDAR
VERSION:2.0
PRODID:-//wp-events-plugin.com//7.2.3.1//EN
TZID:Europe/Paris
X-WR-TIMEZONE:Europe/Paris
BEGIN:VEVENT
UID:4009@agenda24.fr
DTSTART;TZID=Europe/Paris:20241112T130000
DTEND;TZID=Europe/Paris:20241112T133000
DTSTAMP:20241030T091147Z
URL:https://agenda24.fr/evenements/loeuvre-du-cafe-expo-temporaire-de-pier
 rick-chene/
SUMMARY:L'oeuvre du café - expo temporaire de Pierrick Chêne
DESCRIPTION:
CATEGORIES:Tourisme / Patrimoine
LOCATION:Musée du Tabac\, Place du feu\, Bergerac\, France
GEO:44.8497257;0.48375384
X-APPLE-STRUCTURED-LOCATION;VALUE=URI;X-ADDRESS=Place du feu\, Bergerac\, F
 rance;X-APPLE-RADIUS=100;X-TITLE=Musée du Tabac:geo:44.8497257,0.48375384
END:VEVENT
BEGIN:VTIMEZONE
TZID:Europe/Paris
X-LIC-LOCATION:Europe/Paris
BEGIN:STANDARD
DTSTART:20241027T020000
TZOFFSETFROM:+0200
TZOFFSETTO:+0100
TZNAME:CET
END:STANDARD
END:VTIMEZONE
END:VCALENDAR