BEGIN:VCALENDAR
VERSION:2.0
PRODID:-//wp-events-plugin.com//7.2.3.1//EN
TZID:Europe/Paris
X-WR-TIMEZONE:Europe/Paris
BEGIN:VEVENT
UID:9690@agenda24.fr
DTSTART;TZID=Europe/Paris:20251115T203000
DTEND;TZID=Europe/Paris:20251115T203000
DTSTAMP:20251101T090447Z
URL:https://agenda24.fr/evenements/lez-arts-cabaret-les-dessous-de-paris-2
 /
SUMMARY:Lez' Arts Cabaret | Les dessous de Paris
DESCRIPTION:Association composée de chanteurs\, danseurs et comédiens ama
 teurs passionnés. Cette année la compagnie fête ses 20 ans. Lors de cet
 te revue\, nous vous ferons voyager à travers différents univers re visi
 tés par nos soins\, magie et féerie seront au rendez-vous sur les diffé
 rents tableaux que l’on vous propose avec de magnifiques costumes. Stras
 s\, plumes et paillettes viendront agrémenter ce spectacle.\n\nAu plaisir
  de vous retrouver lors de ce rendez-vous incontournable ou de vous rencon
 trer.\n\nTout public.\nSur réservation.
CATEGORIES:Spectacle
LOCATION:L'Eden\, 27 Avenue de la Bastide\, Eymet\, France
GEO:44.6687489;0.39767359
X-APPLE-STRUCTURED-LOCATION;VALUE=URI;X-ADDRESS=27 Avenue de la Bastide\, E
 ymet\, France;X-APPLE-RADIUS=100;X-TITLE=L'Eden:geo:44.6687489,0.39767359
END:VEVENT
BEGIN:VTIMEZONE
TZID:Europe/Paris
X-LIC-LOCATION:Europe/Paris
BEGIN:STANDARD
DTSTART:20251026T020000
TZOFFSETFROM:+0200
TZOFFSETTO:+0100
TZNAME:CET
END:STANDARD
END:VTIMEZONE
END:VCALENDAR