BEGIN:VCALENDAR
VERSION:2.0
PRODID:-//wp-events-plugin.com//7.2.3.1//EN
TZID:Europe/Paris
X-WR-TIMEZONE:Europe/Paris
BEGIN:VEVENT
UID:5170@agenda24.fr
DTSTART;TZID=Europe/Paris:20250306T100000
DTEND;TZID=Europe/Paris:20250306T170000
DTSTAMP:20250213T093358Z
URL:https://agenda24.fr/evenements/les-vacances-au-maap-le-mammouth-a-la-l
 oupe-2/
SUMMARY:Les vacances au MAAP - Le mammouth à la loupe !
DESCRIPTION:Découvrez le musée et ses collections de manière ludique et 
 créative.\nJeudi 6 mars de 14h à 15h30 : Le mammouth à la loupe !  Obse
 rve des gravures\, des dessins et des restes de fossiles de mammouth pour 
 en savoir plus sur ce gigantesque animal. Viens ensuite modeler un mammout
 h en argile.
CATEGORIES:Dédié aux enfants
LOCATION:22 Cours Tourny\, 22 Cours Tourny\, Périgueux\, France
GEO:45.18604;0.72395
X-APPLE-STRUCTURED-LOCATION;VALUE=URI;X-ADDRESS=22 Cours Tourny\, Périgueu
 x\, France;X-APPLE-RADIUS=100;X-TITLE=22 Cours Tourny:geo:45.18604,0.72395
END:VEVENT
BEGIN:VTIMEZONE
TZID:Europe/Paris
X-LIC-LOCATION:Europe/Paris
BEGIN:STANDARD
DTSTART:20241027T020000
TZOFFSETFROM:+0200
TZOFFSETTO:+0100
TZNAME:CET
END:STANDARD
END:VTIMEZONE
END:VCALENDAR