BEGIN:VCALENDAR
VERSION:2.0
PRODID:-//wp-events-plugin.com//7.2.3.1//EN
TZID:Europe/Paris
X-WR-TIMEZONE:Europe/Paris
BEGIN:VEVENT
UID:5296@agenda24.fr
DTSTART;TZID=Europe/Paris:20250308T203000
DTEND;TZID=Europe/Paris:20250308T203000
DTSTAMP:20250213T103002Z
URL:https://agenda24.fr/evenements/les-secrets-dun-gainage-efficace-a-mauz
 ens-et-miremont/
SUMMARY:Les Secrets d'un gainage efficace à Mauzens et Miremont
DESCRIPTION:Spectacle proposé par la section amateur de la Compagnie Lazzi
  Zanni.\n\nC'est l'histoire d'une bergère qui attend le prince charmant
 … non\, ce schéma est archaïque \; c'est l'histoire de cinq princesses
  qui justement n'attendent pas le prince charmant.\n\nOu plutôt de cinq f
 illes qui ne veulent pas être princesses et qui décident de dire ce qu'i
 l est souvent interdit de dire\, c'est-à-dire ce qui se passe dans le cor
 ps féminin quand il y a du désir\, du plaisir\, pour contrebalancer un p
 eu la tyrannie du phallus (oups pardon).\n\nElles sont cinq\, et elles par
 lent de leur corps\, c'est-à-dire de Cellulite\, Obsessions\, Régimes\, 
 Pouvoir et Sexualité \; de Clitoris\, Orgasme\, Règles\, Plaisir et Sein
 s.\n\nElles forment un groupe Complice\, Optimiste\, Rigolo\, Potentiellem
 ent Sensuel\, le C.O.R.P.S.\, qui refuse l'adage « Il faut souffrir pour 
 être belle »\, ou « Sois belle et tais-toi ».
CATEGORIES:Spectacle
LOCATION:Salle des fêtes\, Lieu-dit Le Bourg\, Mauzens-et-Miremont\, Franc
 e
GEO:44.9934262;0.91893290
X-APPLE-STRUCTURED-LOCATION;VALUE=URI;X-ADDRESS=Lieu-dit Le Bourg\, Mauzens
 -et-Miremont\, France;X-APPLE-RADIUS=100;X-TITLE=Salle des fêtes:geo:44.9
 934262,0.91893290
END:VEVENT
BEGIN:VTIMEZONE
TZID:Europe/Paris
X-LIC-LOCATION:Europe/Paris
BEGIN:STANDARD
DTSTART:20241027T020000
TZOFFSETFROM:+0200
TZOFFSETTO:+0100
TZNAME:CET
END:STANDARD
END:VTIMEZONE
END:VCALENDAR