BEGIN:VCALENDAR
VERSION:2.0
PRODID:-//wp-events-plugin.com//7.2.3.1//EN
TZID:Europe/Paris
X-WR-TIMEZONE:Europe/Paris
BEGIN:VEVENT
UID:3873@agenda24.fr
DTSTART;TZID=Europe/Paris:20241123T100000
DTEND;TZID=Europe/Paris:20241123T130000
DTSTAMP:20241030T085627Z
URL:https://agenda24.fr/evenements/les-rendez-vous-de-la-boutique-metiers-
 dart-celine-bocquet/
SUMMARY:Les rendez-vous de la Boutique Métiers d'Art - Céline Bocquet
DESCRIPTION:
CATEGORIES:Evènement à thème
LOCATION:Boutique Métiers d'Art\, 5 rue Carnot\, Nontron\, France
GEO:45.5287213;0.6620830
X-APPLE-STRUCTURED-LOCATION;VALUE=URI;X-ADDRESS=5 rue Carnot\, Nontron\, Fr
 ance;X-APPLE-RADIUS=100;X-TITLE=Boutique Métiers d'Art:geo:45.5287213,0.6
 620830
END:VEVENT
BEGIN:VTIMEZONE
TZID:Europe/Paris
X-LIC-LOCATION:Europe/Paris
BEGIN:STANDARD
DTSTART:20241027T020000
TZOFFSETFROM:+0200
TZOFFSETTO:+0100
TZNAME:CET
END:STANDARD
END:VTIMEZONE
END:VCALENDAR