BEGIN:VCALENDAR
VERSION:2.0
PRODID:-//wp-events-plugin.com//7.2.3.1//EN
TZID:Europe/Paris
X-WR-TIMEZONE:Europe/Paris
BEGIN:VEVENT
UID:5972@agenda24.fr
DTSTART;TZID=Europe/Paris:20250406T100000
DTEND;TZID=Europe/Paris:20250406T180000
DTSTAMP:20250326T140643Z
URL:https://agenda24.fr/evenements/les-puces-des-couturieres-2eme-edition/
SUMMARY:Les Puces des Couturières\, 2ème édition
DESCRIPTION:Puces des couturières et loisirs créatifs\, animations\, tomb
 ola. \nBuvette et restauration sur place\nEntrée libre\n\n10-18h\, salle 
 Michel Girard\nEglise et Patrimoine\, réservation exposants : 06 52 19 41
  02\n
CATEGORIES:Marché / Foire / Brocante
LOCATION:Salle Michel Girard\, Salle Michel Girard\, Manzac-sur-Vern\, Fran
 ce
GEO:45.0875178;0.5870729
X-APPLE-STRUCTURED-LOCATION;VALUE=URI;X-ADDRESS=Salle Michel Girard\, Manza
 c-sur-Vern\, France;X-APPLE-RADIUS=100;X-TITLE=Salle Michel Girard:geo:45.
 0875178,0.5870729
END:VEVENT
BEGIN:VTIMEZONE
TZID:Europe/Paris
X-LIC-LOCATION:Europe/Paris
BEGIN:DAYLIGHT
DTSTART:20250330T030000
TZOFFSETFROM:+0100
TZOFFSETTO:+0200
TZNAME:CEST
END:DAYLIGHT
END:VTIMEZONE
END:VCALENDAR