BEGIN:VCALENDAR
VERSION:2.0
PRODID:-//wp-events-plugin.com//7.2.3.1//EN
TZID:Europe/Paris
X-WR-TIMEZONE:Europe/Paris
BEGIN:VEVENT
UID:3881@agenda24.fr
DTSTART;TZID=Europe/Paris:20241031T200000
DTEND;TZID=Europe/Paris:20241102T020000
DTSTAMP:20241030T085627Z
URL:https://agenda24.fr/evenements/les-nuits-dhalloween/
SUMMARY:Les nuits d'Halloween
DESCRIPTION:
CATEGORIES:Evènement à thème
LOCATION:Bar tapas Le Terrier\, 18-20 boulevard Coligny\, Brantôme\, Franc
 e
GEO:45.3656782;0.64899954
X-APPLE-STRUCTURED-LOCATION;VALUE=URI;X-ADDRESS=18-20 boulevard Coligny\, B
 rantôme\, France;X-APPLE-RADIUS=100;X-TITLE=Bar tapas Le Terrier:geo:45.3
 656782,0.64899954
END:VEVENT
BEGIN:VTIMEZONE
TZID:Europe/Paris
X-LIC-LOCATION:Europe/Paris
BEGIN:STANDARD
DTSTART:20241027T020000
TZOFFSETFROM:+0200
TZOFFSETTO:+0100
TZNAME:CET
END:STANDARD
END:VTIMEZONE
END:VCALENDAR