BEGIN:VCALENDAR
VERSION:2.0
PRODID:-//wp-events-plugin.com//7.2.3.1//EN
TZID:Europe/Paris
X-WR-TIMEZONE:Europe/Paris
BEGIN:VEVENT
UID:3842@agenda24.fr
DTSTART;TZID=Europe/Paris:20241031T160000
DTEND;TZID=Europe/Paris:20241031T160000
DTSTAMP:20241030T085702Z
URL:https://agenda24.fr/evenements/les-monstres-sinvitent-en-ville-deambul
 ation/
SUMMARY:Les monstres s'invitent en ville - Déambulation
DESCRIPTION:
CATEGORIES:Dédié aux enfants
LOCATION:Parc Gabriel Forestier\, Parc Gabriel Forestier\, Eymet\, France
GEO:44.6687709;0.3970377
X-APPLE-STRUCTURED-LOCATION;VALUE=URI;X-ADDRESS=Parc Gabriel Forestier\, Ey
 met\, France;X-APPLE-RADIUS=100;X-TITLE=Parc Gabriel Forestier:geo:44.6687
 709,0.3970377
END:VEVENT
BEGIN:VTIMEZONE
TZID:Europe/Paris
X-LIC-LOCATION:Europe/Paris
BEGIN:STANDARD
DTSTART:20241027T020000
TZOFFSETFROM:+0200
TZOFFSETTO:+0100
TZNAME:CET
END:STANDARD
END:VTIMEZONE
END:VCALENDAR