BEGIN:VCALENDAR
VERSION:2.0
PRODID:-//wp-events-plugin.com//7.2.3.1//EN
TZID:Europe/Paris
X-WR-TIMEZONE:Europe/Paris
BEGIN:VEVENT
UID:10804@agenda24.fr
DTSTART;TZID=Europe/Paris:20260305T000000
DTEND;TZID=Europe/Paris:20260305T000000
DTSTAMP:20260225T080547Z
URL:https://agenda24.fr/evenements/les-incendiaires-rencontre-culturelle-f
 eministe/
SUMMARY:Les incendiaires - rencontre culturelle féministe
DESCRIPTION:Rencontre
ATTACH;FMTTYPE=image/jpeg:https://agenda24.fr/wp-content/uploads/2026/02/C
 apture-decran-2026-02-25-a-09.04.35.png
CATEGORIES:Rencontre / Conférence / Discussion
LOCATION:Planning familial de Périgueux\, 10 bis avenue G. Pompidou \, Pé
 rigueux\, 24000\, France
X-APPLE-STRUCTURED-LOCATION;VALUE=URI;X-ADDRESS=10 bis avenue G. Pompidou \
 , Périgueux\, 24000\, France;X-APPLE-RADIUS=100;X-TITLE=Planning familial
  de Périgueux:geo:0,0
END:VEVENT
BEGIN:VTIMEZONE
TZID:Europe/Paris
X-LIC-LOCATION:Europe/Paris
BEGIN:STANDARD
DTSTART:20251026T020000
TZOFFSETFROM:+0200
TZOFFSETTO:+0100
TZNAME:CET
END:STANDARD
END:VTIMEZONE
END:VCALENDAR