BEGIN:VCALENDAR
VERSION:2.0
PRODID:-//wp-events-plugin.com//7.2.3.1//EN
TZID:Europe/Paris
X-WR-TIMEZONE:Europe/Paris
BEGIN:VEVENT
UID:3990@agenda24.fr
DTSTART;TZID=Europe/Paris:20241110T163000
DTEND;TZID=Europe/Paris:20241110T163000
DTSTAMP:20241030T091156Z
URL:https://agenda24.fr/evenements/les-contes-du-leberou-roberte-lamy/
SUMMARY:Les contes du lébérou - Roberte Lamy
DESCRIPTION:
CATEGORIES:Spectacle
LOCATION:La halle paysanne\, 2 avenue de la préhistoire\, Les Eyzies\, Fra
 nce
GEO:44.93474;1.01533
X-APPLE-STRUCTURED-LOCATION;VALUE=URI;X-ADDRESS=2 avenue de la préhistoire
 \, Les Eyzies\, France;X-APPLE-RADIUS=100;X-TITLE=La halle paysanne:geo:44
 .93474,1.01533
END:VEVENT
BEGIN:VTIMEZONE
TZID:Europe/Paris
X-LIC-LOCATION:Europe/Paris
BEGIN:STANDARD
DTSTART:20241027T020000
TZOFFSETFROM:+0200
TZOFFSETTO:+0100
TZNAME:CET
END:STANDARD
END:VTIMEZONE
END:VCALENDAR