BEGIN:VCALENDAR
VERSION:2.0
PRODID:-//wp-events-plugin.com//7.2.3.1//EN
TZID:Europe/Paris
X-WR-TIMEZONE:Europe/Paris
BEGIN:VEVENT
UID:3993@agenda24.fr
DTSTART;TZID=Europe/Paris:20241116T203000
DTEND;TZID=Europe/Paris:20241116T203000
DTSTAMP:20241030T091156Z
URL:https://agenda24.fr/evenements/les-contes-du-leberou-nicolas-bourdon-e
 t-veronique-petel/
SUMMARY:Les contes du lébérou - Nicolas Bourdon et Véronique Pétel
DESCRIPTION:
CATEGORIES:Spectacle
LOCATION:Salle des fêtes\, Salle des fêtes\, La Chapelle-Aubareil\, Franc
 e
GEO:45.01144;1.20109
X-APPLE-STRUCTURED-LOCATION;VALUE=URI;X-ADDRESS=Salle des fêtes\, La Chape
 lle-Aubareil\, France;X-APPLE-RADIUS=100;X-TITLE=Salle des fêtes:geo:45.0
 1144,1.20109
END:VEVENT
BEGIN:VTIMEZONE
TZID:Europe/Paris
X-LIC-LOCATION:Europe/Paris
BEGIN:STANDARD
DTSTART:20241027T020000
TZOFFSETFROM:+0200
TZOFFSETTO:+0100
TZNAME:CET
END:STANDARD
END:VTIMEZONE
END:VCALENDAR