BEGIN:VCALENDAR
VERSION:2.0
PRODID:-//wp-events-plugin.com//7.2.3.1//EN
TZID:Europe/Paris
X-WR-TIMEZONE:Europe/Paris
BEGIN:VEVENT
UID:3995@agenda24.fr
DTSTART;TZID=Europe/Paris:20241102T203000
DTEND;TZID=Europe/Paris:20241102T203000
DTSTAMP:20241030T091155Z
URL:https://agenda24.fr/evenements/les-contes-du-leberou-magda-lena-gorska
 -et-serge-tamas/
SUMMARY:Les contes du lébérou - Magda Lena Gorska et Serge Tamas
DESCRIPTION:
CATEGORIES:Spectacle
LOCATION:Salle Jean Macé\, Espace Nelson Mandela\, Montignac\, France
GEO:45.0643320;1.1613800
X-APPLE-STRUCTURED-LOCATION;VALUE=URI;X-ADDRESS=Espace Nelson Mandela\, Mon
 tignac\, France;X-APPLE-RADIUS=100;X-TITLE=Salle Jean Macé:geo:45.0643320
 ,1.1613800
END:VEVENT
BEGIN:VTIMEZONE
TZID:Europe/Paris
X-LIC-LOCATION:Europe/Paris
BEGIN:STANDARD
DTSTART:20241027T020000
TZOFFSETFROM:+0200
TZOFFSETTO:+0100
TZNAME:CET
END:STANDARD
END:VTIMEZONE
END:VCALENDAR