BEGIN:VCALENDAR
VERSION:2.0
PRODID:-//wp-events-plugin.com//7.2.3.1//EN
TZID:Europe/Paris
X-WR-TIMEZONE:Europe/Paris
BEGIN:VEVENT
UID:3991@agenda24.fr
DTSTART;TZID=Europe/Paris:20241115T203000
DTEND;TZID=Europe/Paris:20241115T203000
DTSTAMP:20241030T091156Z
URL:https://agenda24.fr/evenements/les-contes-du-leberou-ladji-diallo/
SUMMARY:Les contes du lébérou - Ladji Diallo
DESCRIPTION:
CATEGORIES:Spectacle
LOCATION:Pôle d'interprétation de la Préhistoire\, 30 rue du moulin\, Le
 s Eyzies\, France
GEO:44.9359521;1.01816288
X-APPLE-STRUCTURED-LOCATION;VALUE=URI;X-ADDRESS=30 rue du moulin\, Les Eyzi
 es\, France;X-APPLE-RADIUS=100;X-TITLE=Pôle d'interprétation de la Préh
 istoire:geo:44.9359521,1.01816288
END:VEVENT
BEGIN:VTIMEZONE
TZID:Europe/Paris
X-LIC-LOCATION:Europe/Paris
BEGIN:STANDARD
DTSTART:20241027T020000
TZOFFSETFROM:+0200
TZOFFSETTO:+0100
TZNAME:CET
END:STANDARD
END:VTIMEZONE
END:VCALENDAR