BEGIN:VCALENDAR
VERSION:2.0
PRODID:-//wp-events-plugin.com//7.2.3.1//EN
TZID:Europe/Paris
X-WR-TIMEZONE:Europe/Paris
BEGIN:VEVENT
UID:3992@agenda24.fr
DTSTART;TZID=Europe/Paris:20241101T203000
DTEND;TZID=Europe/Paris:20241101T203000
DTSTAMP:20241030T091156Z
URL:https://agenda24.fr/evenements/les-contes-du-leberou-clement-bouscarel
 /
SUMMARY:Les contes du lébérou - Clément Bouscarel
DESCRIPTION:
CATEGORIES:Spectacle
LOCATION:Salle des fêtes\, Salle des fêtes\, Rouffignac-Saint-Cernin-de-R
 eilhac\, France
GEO:45.0475381;0.97901443
X-APPLE-STRUCTURED-LOCATION;VALUE=URI;X-ADDRESS=Salle des fêtes\, Rouffign
 ac-Saint-Cernin-de-Reilhac\, France;X-APPLE-RADIUS=100;X-TITLE=Salle des f
 êtes:geo:45.0475381,0.97901443
END:VEVENT
BEGIN:VTIMEZONE
TZID:Europe/Paris
X-LIC-LOCATION:Europe/Paris
BEGIN:STANDARD
DTSTART:20241027T020000
TZOFFSETFROM:+0200
TZOFFSETTO:+0100
TZNAME:CET
END:STANDARD
END:VTIMEZONE
END:VCALENDAR