BEGIN:VCALENDAR
VERSION:2.0
PRODID:-//wp-events-plugin.com//7.2.3.1//EN
TZID:Europe/Paris
X-WR-TIMEZONE:Europe/Paris
BEGIN:VEVENT
UID:10210@agenda24.fr
DTSTART;TZID=Europe/Paris:20251211T183000
DTEND;TZID=Europe/Paris:20251211T183000
DTSTAMP:20251210T134244Z
URL:https://agenda24.fr/evenements/les-chais-by-night-une-symphonie-vin-et
 -chocolat/
SUMMARY:Les Chais by Night | Une symphonie vin et chocolat
DESCRIPTION:Au programme de cette soirée sensorielle :\nVisite des chais d
 e nuit – une expérience rare et immersive\nDégustation de 5 vins subli
 mée par un accord chocolats et vins orchestré par Hervé Robin\, artisan
  chocolatier et acteur du mouvement Bean to bar\n\nTarif : 20 € par pers
 onne en prévente / 25€ sur place\nUne expérience unique pour tous les 
 amoureux du vin et du chocolat !\n\nLE SAVIEZ VOUS ? LE CHATEAU PROPOSE DE
 S DÉGUSTATIONS & VISITES TOUS LES JOURS !\nPour les plus impatients\, dé
 couvrez nos chais et dégustez nos vins accompagnés de chocolats du lundi
  au vendredi :\n10h30 et 16h en français\n14h en anglais
CATEGORIES:Evènement à thème
LOCATION:Château de Tiregand\, 1 Route Des Chais de Tiregand\, Creysse\, F
 rance
GEO:44.857244;0.54399999
X-APPLE-STRUCTURED-LOCATION;VALUE=URI;X-ADDRESS=1 Route Des Chais de Tirega
 nd\, Creysse\, France;X-APPLE-RADIUS=100;X-TITLE=Château de Tiregand:geo:
 44.857244,0.54399999
END:VEVENT
BEGIN:VTIMEZONE
TZID:Europe/Paris
X-LIC-LOCATION:Europe/Paris
BEGIN:STANDARD
DTSTART:20251026T020000
TZOFFSETFROM:+0200
TZOFFSETTO:+0100
TZNAME:CET
END:STANDARD
END:VTIMEZONE
END:VCALENDAR