BEGIN:VCALENDAR
VERSION:2.0
PRODID:-//wp-events-plugin.com//7.2.3.1//EN
TZID:Europe/Paris
X-WR-TIMEZONE:Europe/Paris
BEGIN:VEVENT
UID:5279@agenda24.fr
DTSTART;TZID=Europe/Paris:20250222T180000
DTEND;TZID=Europe/Paris:20250222T180000
DTSTAMP:20250213T103003Z
URL:https://agenda24.fr/evenements/les-aventures-experimentales-du-grand-c
 atastropheur/
SUMMARY:Les aventures expérimentales du Grand Catastropheur
DESCRIPTION:Lecture animée musicale et décalée. Épopée chapitrée de l
 a ré-création du monde. Par Los Muchos.\nSurprises catastrophées.\nBic 
 banquet cosmique. Dégustation quatre couleurs déjantée. Par Lydie Clerg
 erie\, Valérie Masson & cie.\nParticipation libre - Tous publics.
CATEGORIES:Spectacle
LOCATION:Villa les roses\, 8 rue Jean Chavoix\, Excideuil\, France
GEO:45.3386287;1.04875108
X-APPLE-STRUCTURED-LOCATION;VALUE=URI;X-ADDRESS=8 rue Jean Chavoix\, Excide
 uil\, France;X-APPLE-RADIUS=100;X-TITLE=Villa les roses:geo:45.3386287,1.0
 4875108
END:VEVENT
BEGIN:VTIMEZONE
TZID:Europe/Paris
X-LIC-LOCATION:Europe/Paris
BEGIN:STANDARD
DTSTART:20241027T020000
TZOFFSETFROM:+0200
TZOFFSETTO:+0100
TZNAME:CET
END:STANDARD
END:VTIMEZONE
END:VCALENDAR