BEGIN:VCALENDAR
VERSION:2.0
PRODID:-//wp-events-plugin.com//7.2.3.1//EN
TZID:Europe/Paris
X-WR-TIMEZONE:Europe/Paris
BEGIN:VEVENT
UID:11825@agenda24.fr
DTSTART;TZID=Europe/Paris:20260307T103000
DTEND;TZID=Europe/Paris:20260307T120000
DTSTAMP:20260301T135157Z
URL:https://agenda24.fr/evenements/lenvolee-enigmatique-jeu-de-loie-sur-la
 -tour-mataguerre-2/
SUMMARY:L'envolée énigmatique - Jeu de l'oie sur la Tour Mataguerre
DESCRIPTION:Plongez dans une aventure ludique avec une vue panoramique exce
 ptionnelle sur Périgueux ! Défis d’observation\, questions historiques
  et dégustations gourmandes rythmeront votre progression sur un plateau g
 éant. Entre jeu\, patrimoine et plaisir\, découvrez la ville autrement d
 ans une ambiance conviviale. Serez-vous prêt à relever tous les défis p
 our atteindre la dernière case ?\n\nRendez-vous : Office de Tourisme Dest
 ination Périgueux (9bis Place du Coderc)\n\nDurée : 1h30\n\nEquipe de 3 
 à 8 personnes\nA partir de 12 ans\n\nRéservation uniquement\, sous rése
 rve de conditions météo favorable. 
CATEGORIES:Tourisme / Patrimoine
LOCATION:Office de tourisme Destination Périgueux\, 9B Place du Coderc\, P
 érigueux\, France
GEO:45.1845;0.72098
X-APPLE-STRUCTURED-LOCATION;VALUE=URI;X-ADDRESS=9B Place du Coderc\, Périg
 ueux\, France;X-APPLE-RADIUS=100;X-TITLE=Office de tourisme Destination P
 érigueux:geo:45.1845,0.72098
END:VEVENT
BEGIN:VTIMEZONE
TZID:Europe/Paris
X-LIC-LOCATION:Europe/Paris
BEGIN:STANDARD
DTSTART:20251026T020000
TZOFFSETFROM:+0200
TZOFFSETTO:+0100
TZNAME:CET
END:STANDARD
END:VTIMEZONE
END:VCALENDAR