BEGIN:VCALENDAR
VERSION:2.0
PRODID:-//wp-events-plugin.com//7.2.3.1//EN
TZID:Europe/Paris
X-WR-TIMEZONE:Europe/Paris
BEGIN:VEVENT
UID:8297@agenda24.fr
DTSTART;TZID=Europe/Paris:20250925T190000
DTEND;TZID=Europe/Paris:20250925T190000
DTSTAMP:20250905T092456Z
URL:https://agenda24.fr/evenements/lecture-musicale/
SUMMARY:Lecture musicale
DESCRIPTION:Le tiers-lieu La Vieille Ecole à Bourgougnague inaugure sa tou
 te nouvelle petite librairie en partenariat avec La Mauvaise Herbe !\nPour
  l'occaz'\, Thierry Morgan auteur de BD\, instituteur bien connu de l'eym
 étois et parrain de cette petite librairie dédicacera ses albums pendant
  que Sara et Matéo proposeront la lecture musicale de 8 extraits de roman
 s parus\, lus et aimés pour cette rentrée littéraire !
CATEGORIES:Rencontre / Conférence / Discussion
LOCATION:La vieille école\, Tiers lieu \, Bourgougnague\, France
X-APPLE-STRUCTURED-LOCATION;VALUE=URI;X-ADDRESS=Tiers lieu \, Bourgougnague
 \, France;X-APPLE-RADIUS=100;X-TITLE=La vieille école:geo:0,0
END:VEVENT
BEGIN:VTIMEZONE
TZID:Europe/Paris
X-LIC-LOCATION:Europe/Paris
BEGIN:DAYLIGHT
DTSTART:20250330T030000
TZOFFSETFROM:+0100
TZOFFSETTO:+0200
TZNAME:CEST
END:DAYLIGHT
END:VTIMEZONE
END:VCALENDAR