BEGIN:VCALENDAR
VERSION:2.0
PRODID:-//wp-events-plugin.com//7.2.3.1//EN
TZID:Europe/Paris
X-WR-TIMEZONE:Europe/Paris
BEGIN:VEVENT
UID:5764@agenda24.fr
DTSTART;TZID=Europe/Paris:20250328T200000
DTEND;TZID=Europe/Paris:20250328T200000
DTSTAMP:20250326T135034Z
URL:https://agenda24.fr/evenements/le-rocksane-festival-24-carats-spider-z
 ed-peter-rabbit/
SUMMARY:Le Rocksane Festival 24 Carats | Spider Zed + Peter Rabbit
DESCRIPTION:SPIDER ZED + Peter Rabbit / Rap\n\nSPIDER ZED\nAuteur-composite
 ur Spider ZED s’est imposé comme une voix authentique de la scène fran
 çaise\, avec plus de 70 millions de streams entre 2017 et 2023. \n\nPETER
  RABBIT\nSon projet musical est le reflet de ces multiples influences\, m
 élangeant habilement le rap\, le blues\, la folk et les chansons à texte
 . Cette diversité se retrouve dans ses compositions\, où chaque morceau 
 est une fusion harmonieuse de différents genres.
CATEGORIES:Concert
LOCATION:Le Rocksane\, 14 Rue du Professeur Pozzi\, Bergerac\, France
GEO:44.85143;0.48594
X-APPLE-STRUCTURED-LOCATION;VALUE=URI;X-ADDRESS=14 Rue du Professeur Pozzi\
 , Bergerac\, France;X-APPLE-RADIUS=100;X-TITLE=Le Rocksane:geo:44.85143,0.
 48594
END:VEVENT
BEGIN:VTIMEZONE
TZID:Europe/Paris
X-LIC-LOCATION:Europe/Paris
BEGIN:STANDARD
DTSTART:20241027T020000
TZOFFSETFROM:+0200
TZOFFSETTO:+0100
TZNAME:CET
END:STANDARD
END:VTIMEZONE
END:VCALENDAR