BEGIN:VCALENDAR
VERSION:2.0
PRODID:-//wp-events-plugin.com//7.2.3.1//EN
TZID:Europe/Paris
X-WR-TIMEZONE:Europe/Paris
BEGIN:VEVENT
UID:5763@agenda24.fr
DTSTART;TZID=Europe/Paris:20250327T193000
DTEND;TZID=Europe/Paris:20250327T193000
DTSTAMP:20250326T135034Z
URL:https://agenda24.fr/evenements/le-rocksane-festival-24-carats-garselle
 /
SUMMARY:Le Rocksane Festival 24 Carats | Garselle
DESCRIPTION:GARSELLE - au VandB / Rap\n\nDes textes qui dégagent une profo
 ndeur et nous amènent dans de vraies introspections\, sur des prods aux c
 ouleurs sombres\, dynamiques et urbaines. C’est comme ça que GarsElle s
 e démarque sur scène et amène de la nouveauté dans cet éco système.\
 nEn 2023\, GarsElle est booké sur des premières parties\, elle a donc pu
  partager la scène avec des artsites comme Hatik\, Nayra ou encore Médin
 e.\nElle participe aussi à la fête de l’humanité en septembre dernier
 . Chaque scène de cette artiste prometteuse est un franc succès\, elle s
 ait toucher\nle coeur du public qui nous parle de son charisme\nson authen
 ticité et qui exerce une écoute active des mots qu’elle leur livre.
CATEGORIES:Concert
LOCATION:Le V&B\, 95 Avenue du Général de Gaulle\, Bergerac\, France
GEO:44.84096;0.46242
X-APPLE-STRUCTURED-LOCATION;VALUE=URI;X-ADDRESS=95 Avenue du Général de G
 aulle\, Bergerac\, France;X-APPLE-RADIUS=100;X-TITLE=Le V&B:geo:44.84096,0
 .46242
END:VEVENT
BEGIN:VTIMEZONE
TZID:Europe/Paris
X-LIC-LOCATION:Europe/Paris
BEGIN:STANDARD
DTSTART:20241027T020000
TZOFFSETFROM:+0200
TZOFFSETTO:+0100
TZNAME:CET
END:STANDARD
END:VTIMEZONE
END:VCALENDAR