BEGIN:VCALENDAR
VERSION:2.0
PRODID:-//wp-events-plugin.com//7.2.3.1//EN
TZID:Europe/Paris
X-WR-TIMEZONE:Europe/Paris
BEGIN:VEVENT
UID:5762@agenda24.fr
DTSTART;TZID=Europe/Paris:20250404T210000
DTEND;TZID=Europe/Paris:20250404T210000
DTSTAMP:20250326T135035Z
URL:https://agenda24.fr/evenements/le-ptit-bal-perdu-chanson-francaise/
SUMMARY:Le p'tit bal perdu - chanson française
DESCRIPTION:Concert avec Louise Le Creurer et Denis Cornardeau\n\n Au son d
 e la guitare et du violon\, ce duo vous emmène sur les traces des grands 
 noms de la chanson française. De Brassens à Gainsbourg\, de Brel à Piaf
  mais aussi de Stromae à M avec également des compositions. Des textes a
 ux sujets universels\, poétiques incarnés avec passion et sincérité pa
 r Louise. Une belle soirée\, à ne pas manquer !\n\nSur réservation
CATEGORIES:Concert
LOCATION:Salle Jean Macé\, Espace Nelson Mandèla\, Montignac\, France
GEO:45.06483;1.16401
X-APPLE-STRUCTURED-LOCATION;VALUE=URI;X-ADDRESS=Espace Nelson Mandèla\, Mo
 ntignac\, France;X-APPLE-RADIUS=100;X-TITLE=Salle Jean Macé:geo:45.06483,
 1.16401
END:VEVENT
BEGIN:VTIMEZONE
TZID:Europe/Paris
X-LIC-LOCATION:Europe/Paris
BEGIN:DAYLIGHT
DTSTART:20250330T030000
TZOFFSETFROM:+0100
TZOFFSETTO:+0200
TZNAME:CEST
END:DAYLIGHT
END:VTIMEZONE
END:VCALENDAR