BEGIN:VCALENDAR
VERSION:2.0
PRODID:-//wp-events-plugin.com//7.2.3.1//EN
TZID:Europe/Paris
X-WR-TIMEZONE:Europe/Paris
BEGIN:VEVENT
UID:11842@agenda24.fr
DTSTART;TZID=Europe/Paris:20260329T100000
DTEND;TZID=Europe/Paris:20260329T170000
DTSTAMP:20260301T135157Z
URL:https://agenda24.fr/evenements/le-printemps-se-raconte/
SUMMARY:Le printemps se raconte
DESCRIPTION:Le printemps se raconte\nMatin : Conférence sur la forêt de l
 a Double- présentation du projet et jeu-découverte des arbres du Parcot.
  Après-midi : goûter et histoires\, grand public et familial et la biodi
 versité et la forêt. 14h – cuisson et dégustation de gaufres à l’
 âtre avec boissons chaudes – prix libre – 05 53 81 99 28\n
CATEGORIES:Tourisme / Patrimoine
LOCATION:Ferme du Parcot\, Chemin Abel Guionneau\, Echourgnac\, France
GEO:45.134073;0.26631221
X-APPLE-STRUCTURED-LOCATION;VALUE=URI;X-ADDRESS=Chemin Abel Guionneau\, Ech
 ourgnac\, France;X-APPLE-RADIUS=100;X-TITLE=Ferme du Parcot:geo:45.134073,
 0.26631221
END:VEVENT
BEGIN:VTIMEZONE
TZID:Europe/Paris
X-LIC-LOCATION:Europe/Paris
BEGIN:DAYLIGHT
DTSTART:20260329T030000
TZOFFSETFROM:+0100
TZOFFSETTO:+0200
TZNAME:CEST
END:DAYLIGHT
END:VTIMEZONE
END:VCALENDAR