BEGIN:VCALENDAR
VERSION:2.0
PRODID:-//wp-events-plugin.com//7.2.3.1//EN
TZID:Europe/Paris
X-WR-TIMEZONE:Europe/Paris
BEGIN:VEVENT
UID:11831@agenda24.fr
DTSTART;TZID=Europe/Paris:20260320T183000
DTEND;TZID=Europe/Paris:20260320T183000
DTSTAMP:20260301T135157Z
URL:https://agenda24.fr/evenements/le-printemps-des-moulins/
SUMMARY:Le Printemps des Moulins
DESCRIPTION:L’Association des Moulins du Périgord Noir (AMPN) invite le 
 public au lancement du Printemps des Moulins le vendredi 20 mars 2026 à 1
 8h30 au Séchoir d’Aillac. À cette occasion\, Daniel Chavaroche propose
 ra « La Mouline\, un bouquet d’histoires de pays »\, un moment conté 
 mettant à l’honneur la mémoire et les traditions locales. Cette rencon
 tre conviviale autour du patrimoine des moulins sera suivie d’un pot de 
 l’amitié offert aux participants.\n\nConfirmation avant le 10 mars : el
 ie.coustady@orange.fr
CATEGORIES:Tourisme / Patrimoine
LOCATION:Séchoir d’Aillac\, 24200 Carsac-Aillac\, 80 Place Haute\, Carlu
 x\, France
GEO:44.842432;1.301067
X-APPLE-STRUCTURED-LOCATION;VALUE=URI;X-ADDRESS=80 Place Haute\, Carlux\, F
 rance;X-APPLE-RADIUS=100;X-TITLE=Séchoir d’Aillac\, 24200 Carsac-Aillac
 :geo:44.842432,1.301067
END:VEVENT
BEGIN:VTIMEZONE
TZID:Europe/Paris
X-LIC-LOCATION:Europe/Paris
BEGIN:STANDARD
DTSTART:20251026T020000
TZOFFSETFROM:+0200
TZOFFSETTO:+0100
TZNAME:CET
END:STANDARD
END:VTIMEZONE
END:VCALENDAR