BEGIN:VCALENDAR
VERSION:2.0
PRODID:-//wp-events-plugin.com//7.2.3.1//EN
TZID:Europe/Paris
X-WR-TIMEZONE:Europe/Paris
BEGIN:VEVENT
UID:5892@agenda24.fr
DTSTART;TZID=Europe/Paris:20250419T180000
DTEND;TZID=Europe/Paris:20250419T220000
DTSTAMP:20250326T140705Z
URL:https://agenda24.fr/evenements/le-mystere-de-la-dame-blanche-lepee-des
 -ancetres/
SUMMARY:Le mystère de la dame blanche\, l'épée des ancêtres
DESCRIPTION:Des écris ont traversés  les siècles contant les histoires d
 es ancêtres de Puymartin. Certains témoignent d’une épée de grande v
 aleur aux pouvoirs étranges\, qui disparut subitement…\nPour percer ce 
 mystère\, à l'aide d'une feuille de route vous devrez résoudre des éni
 gmes et relever des défis dans toutes les pièces du château.  \n\nRése
 rvation obligatoire en ligne (pas d'accès sans réservation préalable).\
 n\nCette animation est prévue en intérieur. \n\nAu cours de cette animat
 ion\, vous aurez accès à tout le château\, dont certaines pièces ouver
 tes uniquement pour le jeu. 
CATEGORIES:Jeux
LOCATION:Château de Puymartin\, 454 route de Puymartin \, Sarlat-la-Caneda
 \, France
GEO:44.91069;1.14227863
X-APPLE-STRUCTURED-LOCATION;VALUE=URI;X-ADDRESS=454 route de Puymartin \, S
 arlat-la-Caneda\, France;X-APPLE-RADIUS=100;X-TITLE=Château de Puymartin:
 geo:44.91069,1.14227863
END:VEVENT
BEGIN:VTIMEZONE
TZID:Europe/Paris
X-LIC-LOCATION:Europe/Paris
BEGIN:DAYLIGHT
DTSTART:20250330T030000
TZOFFSETFROM:+0100
TZOFFSETTO:+0200
TZNAME:CEST
END:DAYLIGHT
END:VTIMEZONE
END:VCALENDAR