BEGIN:VCALENDAR
VERSION:2.0
PRODID:-//wp-events-plugin.com//7.2.3.1//EN
TZID:Europe/Paris
X-WR-TIMEZONE:Europe/Paris
BEGIN:VEVENT
UID:5295@agenda24.fr
DTSTART;TZID=Europe/Paris:20250314T203000
DTEND;TZID=Europe/Paris:20250314T203000
DTSTAMP:20250213T102954Z
URL:https://agenda24.fr/evenements/le-conteur-paysan-clement-bouscarel/
SUMMARY:Le conteur paysan - Clément Bouscarel
DESCRIPTION:La ligue contre la cancer organise une soirée dans le cadre de
  Mars bleu. Clément Bouscarel est de retour à Montignac-Lascaux!\n\nIl v
 it dans la ferme familiale\, au bord de la Dordogne. Son grand-père\, son
  grand-oncle et d'autres anciens lui ont raconté les légendes de ce pays
 . Accompagné de son chien\, c'est sur scène qu'il va nous les transmettr
 e. Ces histoires sont les clefs pour ouvrir des portes secrètes de son pa
 ys. Le conte est universel et pas d'époque. Que des bouches et des oreill
 es pour le voyage.
CATEGORIES:Spectacle
LOCATION:Salle Jean Macé\, 57 Rue du Quatre Septembre\, Montignac\, France
GEO:45.0647774;1.16404661
X-APPLE-STRUCTURED-LOCATION;VALUE=URI;X-ADDRESS=57 Rue du Quatre Septembre\
 , Montignac\, France;X-APPLE-RADIUS=100;X-TITLE=Salle Jean Macé:geo:45.06
 47774,1.16404661
END:VEVENT
BEGIN:VTIMEZONE
TZID:Europe/Paris
X-LIC-LOCATION:Europe/Paris
BEGIN:STANDARD
DTSTART:20241027T020000
TZOFFSETFROM:+0200
TZOFFSETTO:+0100
TZNAME:CET
END:STANDARD
END:VTIMEZONE
END:VCALENDAR