BEGIN:VCALENDAR
VERSION:2.0
PRODID:-//wp-events-plugin.com//7.2.3.1//EN
TZID:Europe/Paris
X-WR-TIMEZONE:Europe/Paris
BEGIN:VEVENT
UID:4482@agenda24.fr
DTSTART;TZID=Europe/Paris:20241221T170000
DTEND;TZID=Europe/Paris:20241221T174500
DTSTAMP:20241214T154100Z
URL:https://agenda24.fr/evenements/le-bal-de-la-compagnie-remue-menage/
SUMMARY:Le Bal de la Compagnie Remue Ménage
DESCRIPTION:
CATEGORIES:Spectacle
LOCATION:Carrousel\, Place André Maurois\, Périgueux\, France
GEO:45.18499;0.71825
X-APPLE-STRUCTURED-LOCATION;VALUE=URI;X-ADDRESS=Place André Maurois\, Pér
 igueux\, France;X-APPLE-RADIUS=100;X-TITLE=Carrousel:geo:45.18499,0.71825
END:VEVENT
BEGIN:VTIMEZONE
TZID:Europe/Paris
X-LIC-LOCATION:Europe/Paris
BEGIN:STANDARD
DTSTART:20241027T020000
TZOFFSETFROM:+0200
TZOFFSETTO:+0100
TZNAME:CET
END:STANDARD
END:VTIMEZONE
END:VCALENDAR