BEGIN:VCALENDAR
VERSION:2.0
PRODID:-//wp-events-plugin.com//7.2.3.1//EN
TZID:Europe/Paris
X-WR-TIMEZONE:Europe/Paris
BEGIN:VEVENT
UID:8337@agenda24.fr
DTSTART;TZID=Europe/Paris;VALUE=DATE:20250910
DTEND;TZID=Europe/Paris;VALUE=DATE:20250911
DTSTAMP:20250909T225057Z
URL:https://agenda24.fr/evenements/le-10-septembre-on-bloque-tout-a-perigu
 eux/
SUMMARY:Le 10 septembre - On bloque TOUT ! - A PÉRIGUEUX
DESCRIPTION:A PÉRIGUEUX\n🗓 10h jusqu'au soir - Place Tourny \n\nRassem
 blement et échanges (plus tôt si tu le veux\, il y aura du monde).\n\n&n
 bsp\;\n\n🗓 11h - Centre des Finances publiques\n\nTu peux rejoindre le 
 rassemblement de la CGT Dordogne.\n\nPossibilité d'informer du rassemblem
 ent place Tourny et d'y retourner pour renforcer les rangs sans drapeaux a
 ppartenant à un mouvement.\n\n&nbsp\;\n\n🗓 12h - Place Tourny \n\n
 🥣 Soupe paysanne - De la soupe plutôt que Duplomb !\n\n👉 Si vous vo
 ulez contribuer à cette cantine de lutte\, vous pouvez ramener soupe\, g
 âteaux &amp\; desserts. Dans ce cas\, rendez-vous dès 11h pour l'install
 ation.\n💰 Prix libre reversé aux producteur·ices. Idéalement\, ramen
 ez votre bol !\n\n👉 Pancartes\, casseroles\, instruments\, soyez créat
 ifs !\n\n&nbsp\;\n\n⚠️  Recherche de barnums pour se protéger de l'
 éventuelle pluie. Tu as ça en stock ?\n\n⚠️  Recherche de tables co
 mplémentaires pour poser victuailles et boissons. Tu as ça en stock ?\n\
 n&nbsp\;\n\n&nbsp\;\nLes raisons de notre colère\nLe plan Bayrou\, c’es
 t :\n\n 	Une année blanche sans investissement dans les salaires\, les re
 traites\, ni les services publics !\n 	3000 postes supprimés\, un fonctio
 nnaire sur trois non remplacé !\n 	5 milliards retirés à la santé\, re
 ste à payer doublé pour les malades !\n 	Deux jours fériés supprimés 
 !\n 	Six jours de carence en cas d’arrêt maladie !\n 	Aucune hausse des
  aides ni des pensions !\n\nNous disons NON et appelons toutes les personn
 es résidant en France métropolitaine et dans les DOM-TOM à se mobiliser
  contre ce budget !\n\nNous ne voulons pas subir leur crise.\nNous voulons
  changer de cap\, pour de bon\, avec et pour le peuple. Pas contre lui.
ATTACH;FMTTYPE=image/jpeg:https://agenda24.fr/wp-content/uploads/2025/09/I
 MG_20250908_164204_971.jpg
CATEGORIES:Militant
LOCATION:Place Tourny\, Place Tourny \, Périgueux\, 24000\, France
X-APPLE-STRUCTURED-LOCATION;VALUE=URI;X-ADDRESS=Place Tourny \, Périgueux
 \, 24000\, France;X-APPLE-RADIUS=100;X-TITLE=Place Tourny:geo:0,0
END:VEVENT
BEGIN:VTIMEZONE
TZID:Europe/Paris
X-LIC-LOCATION:Europe/Paris
BEGIN:DAYLIGHT
DTSTART:20250330T030000
TZOFFSETFROM:+0100
TZOFFSETTO:+0200
TZNAME:CEST
END:DAYLIGHT
END:VTIMEZONE
END:VCALENDAR