BEGIN:VCALENDAR
VERSION:2.0
PRODID:-//wp-events-plugin.com//7.2.3.1//EN
TZID:Europe/Paris
X-WR-TIMEZONE:Europe/Paris
BEGIN:VEVENT
UID:8353@agenda24.fr
DTSTART;TZID=Europe/Paris;VALUE=DATE:20250910
DTEND;TZID=Europe/Paris;VALUE=DATE:20250911
DTSTAMP:20250909T231103Z
URL:https://agenda24.fr/evenements/le-10-septembre-on-bloque-tout-a-perigu
 eux-2/
SUMMARY:Le 10 septembre - On bloque TOUT ! - A Siorac-en-Périgord
DESCRIPTION:A Siorac-en-Périgord\n🗓 8h - Rond point de Siorac\n\nRassem
 blement et échanges.\n\nObjectif : Monter une cabane\,\n\ncréer une espa
 ce de discussions\, d'échanges\,\n\nde ralentir la circulation et d'invit
 er des gens à nous rejoindre.\n\n&nbsp\;\n\n&nbsp\;\nLes raisons de notre
  colère\nLe plan Bayrou\, c’est :\n\n 	Une année blanche sans investis
 sement dans les salaires\, les retraites\, ni les services publics !\n 	30
 00 postes supprimés\, un fonctionnaire sur trois non remplacé !\n 	5 mil
 liards retirés à la santé\, reste à payer doublé pour les malades !\n
  	Deux jours fériés supprimés !\n 	Six jours de carence en cas d’arr
 êt maladie !\n 	Aucune hausse des aides ni des pensions !\n\nNous disons 
 NON et appelons toutes les personnes résidant en France métropolitaine e
 t dans les DOM-TOM à se mobiliser contre ce budget !\n\nNous ne voulons p
 as subir leur crise.\nNous voulons changer de cap\, pour de bon\, avec et 
 pour le peuple. Pas contre lui.
CATEGORIES:Militant
LOCATION:Rond point de Siorac\, Siorac-en-Périgord\, Siorac en Périgord\,
  France
X-APPLE-STRUCTURED-LOCATION;VALUE=URI;X-ADDRESS=Siorac-en-Périgord\, Siora
 c en Périgord\, France;X-APPLE-RADIUS=100;X-TITLE=Rond point de Siorac:ge
 o:0,0
END:VEVENT
BEGIN:VTIMEZONE
TZID:Europe/Paris
X-LIC-LOCATION:Europe/Paris
BEGIN:DAYLIGHT
DTSTART:20250330T030000
TZOFFSETFROM:+0100
TZOFFSETTO:+0200
TZNAME:CEST
END:DAYLIGHT
END:VTIMEZONE
END:VCALENDAR