BEGIN:VCALENDAR
VERSION:2.0
PRODID:-//wp-events-plugin.com//7.2.3.1//EN
TZID:Europe/Paris
X-WR-TIMEZONE:Europe/Paris
BEGIN:VEVENT
UID:8352@agenda24.fr
DTSTART;TZID=Europe/Paris;VALUE=DATE:20250910
DTEND;TZID=Europe/Paris;VALUE=DATE:20250911
DTSTAMP:20250909T225745Z
URL:https://agenda24.fr/evenements/le-10-septembre-on-bloque-tout-a-mussid
 an/
SUMMARY:Le 10 septembre - On bloque TOUT ! - A MUSSIDAN
DESCRIPTION:A MUSSIDAN\n🗓 16h45 - Halle de Mussidan\n\nRassemblement et 
 consignes.\n\n&nbsp\;\n\n🗓 17h-18h55 \n\nDIstribution du trac joint à
  chaque feux tricolores.\n\n&nbsp\;\n\n🗓 16h45 - Halle de Mussidan\n\nR
 assemblement et échanges.\n\n&nbsp\;\nLes raisons de notre colère\nLe pl
 an Bayrou\, c’est :\n\n 	Une année blanche sans investissement dans les
  salaires\, les retraites\, ni les services publics !\n 	3000 postes suppr
 imés\, un fonctionnaire sur trois non remplacé !\n 	5 milliards retirés
  à la santé\, reste à payer doublé pour les malades !\n 	Deux jours f
 ériés supprimés !\n 	Six jours de carence en cas d’arrêt maladie !\n
  	Aucune hausse des aides ni des pensions !\n\nNous disons NON et appelons
  toutes les personnes résidant en France métropolitaine et dans les DOM-
 TOM à se mobiliser contre ce budget !\n\nNous ne voulons pas subir leur c
 rise.\nNous voulons changer de cap\, pour de bon\, avec et pour le peuple.
  Pas contre lui.
ATTACH;FMTTYPE=image/jpeg:https://agenda24.fr/wp-content/uploads/2025/09/5
 908972566993816365_121.jpg
CATEGORIES:Militant
LOCATION:au rond point de Madrazès\, Sarlat\, Sarlat\, France
X-APPLE-STRUCTURED-LOCATION;VALUE=URI;X-ADDRESS=Sarlat\, Sarlat\, France;X-
 APPLE-RADIUS=100;X-TITLE=au rond point de Madrazès:geo:0,0
END:VEVENT
BEGIN:VTIMEZONE
TZID:Europe/Paris
X-LIC-LOCATION:Europe/Paris
BEGIN:DAYLIGHT
DTSTART:20250330T030000
TZOFFSETFROM:+0100
TZOFFSETTO:+0200
TZNAME:CEST
END:DAYLIGHT
END:VTIMEZONE
END:VCALENDAR