BEGIN:VCALENDAR
VERSION:2.0
PRODID:-//wp-events-plugin.com//7.2.3.1//EN
TZID:Europe/Paris
X-WR-TIMEZONE:Europe/Paris
BEGIN:VEVENT
UID:8354@agenda24.fr
DTSTART;TZID=Europe/Paris;VALUE=DATE:20250910
DTEND;TZID=Europe/Paris;VALUE=DATE:20250911
DTSTAMP:20250909T231643Z
URL:https://agenda24.fr/evenements/le-10-septembre-on-bloque-tout-a-montig
 nac/
SUMMARY:Le 10 septembre - On bloque TOUT ! - A MONTIGNAC
DESCRIPTION:A MONTIGNAC\n🗓 9h-18h -Le Pied Allez Triez\n\nEspace d'écha
 nges\, sous forme d'atelier d'intelligence collective.\n\nCafé\, thé et 
 petites collations offerts.\n\nAuberge espagnole le midi !\n\n&nbsp\;\n\n&
 nbsp\;\nLes raisons de notre colère\nLe plan Bayrou\, c’est :\n\n 	Une 
 année blanche sans investissement dans les salaires\, les retraites\, ni 
 les services publics !\n 	3000 postes supprimés\, un fonctionnaire sur tr
 ois non remplacé !\n 	5 milliards retirés à la santé\, reste à payer 
 doublé pour les malades !\n 	Deux jours fériés supprimés !\n 	Six jour
 s de carence en cas d’arrêt maladie !\n 	Aucune hausse des aides ni des
  pensions !\n\nNous disons NON et appelons toutes les personnes résidant 
 en France métropolitaine et dans les DOM-TOM à se mobiliser contre ce bu
 dget !\n\nNous ne voulons pas subir leur crise.\nNous voulons changer de c
 ap\, pour de bon\, avec et pour le peuple. Pas contre lui.
CATEGORIES:Militant
LOCATION:Recyclerie - Le Pied Allez Triez\, 20 Av. Marc Mercier\, Montignac
 -Lascaux\, 24290 \, France
X-APPLE-STRUCTURED-LOCATION;VALUE=URI;X-ADDRESS=20 Av. Marc Mercier\, Monti
 gnac-Lascaux\, 24290 \, France;X-APPLE-RADIUS=100;X-TITLE=Recyclerie - Le 
 Pied Allez Triez:geo:0,0
END:VEVENT
BEGIN:VTIMEZONE
TZID:Europe/Paris
X-LIC-LOCATION:Europe/Paris
BEGIN:DAYLIGHT
DTSTART:20250330T030000
TZOFFSETFROM:+0100
TZOFFSETTO:+0200
TZNAME:CEST
END:DAYLIGHT
END:VTIMEZONE
END:VCALENDAR