BEGIN:VCALENDAR
VERSION:2.0
PRODID:-//wp-events-plugin.com//7.2.3.1//EN
TZID:Europe/Paris
X-WR-TIMEZONE:Europe/Paris
BEGIN:VEVENT
UID:8339@agenda24.fr
DTSTART;TZID=Europe/Paris;VALUE=DATE:20250910
DTEND;TZID=Europe/Paris;VALUE=DATE:20250911
DTSTAMP:20250910T060520Z
URL:https://agenda24.fr/evenements/le-10-septembre-on-bloque-tout-a-berger
 ac/
SUMMARY:Le 10 septembre - On bloque TOUT ! - A BERGERAC
DESCRIPTION:A BERGERAC\n🗓 10 septembre - 10h30 - Palais de justice \n\n
 Rassemblement citoyen\n\n&nbsp\;\nLes raisons de notre colère\nLe plan Ba
 yrou\, c’est :\n\n 	Une année blanche sans investissement dans les sala
 ires\, les retraites\, ni les services publics !\n 	3000 postes supprimés
 \, un fonctionnaire sur trois non remplacé !\n 	5 milliards retirés à l
 a santé\, reste à payer doublé pour les malades !\n 	Deux jours férié
 s supprimés !\n 	Six jours de carence en cas d’arrêt maladie !\n 	Aucu
 ne hausse des aides ni des pensions !\n\nNous disons NON et appelons toute
 s les personnes résidant en France métropolitaine et dans les DOM-TOM à
  se mobiliser contre ce budget !\n\nNous ne voulons pas subir leur crise.\
 nNous voulons changer de cap\, pour de bon\, avec et pour le peuple. Pas c
 ontre lui.
CATEGORIES:Militant
LOCATION:Palais de justice\, Palais de justice\, Bergerac\, France
GEO:44.853806;0.483392
X-APPLE-STRUCTURED-LOCATION;VALUE=URI;X-ADDRESS=Palais de justice\, Bergera
 c\, France;X-APPLE-RADIUS=100;X-TITLE=Palais de justice:geo:44.853806,0.48
 3392
END:VEVENT
BEGIN:VTIMEZONE
TZID:Europe/Paris
X-LIC-LOCATION:Europe/Paris
BEGIN:DAYLIGHT
DTSTART:20250330T030000
TZOFFSETFROM:+0100
TZOFFSETTO:+0200
TZNAME:CEST
END:DAYLIGHT
END:VTIMEZONE
END:VCALENDAR