BEGIN:VCALENDAR
VERSION:2.0
PRODID:-//wp-events-plugin.com//7.2.3.1//EN
TZID:Europe/Paris
X-WR-TIMEZONE:Europe/Paris
BEGIN:VEVENT
UID:8336@agenda24.fr
DTSTART;TZID=Europe/Paris;VALUE=DATE:20250910
DTEND;TZID=Europe/Paris;VALUE=DATE:20250911
DTSTAMP:20250910T060502Z
URL:https://agenda24.fr/evenements/le-10-septembre-on-arrete-tout-8h-thivi
 ers/
SUMMARY:Le 10 septembre - On arrête TOUT ! - A Thiviers
DESCRIPTION:Rdv entre 7h30 et 8h30 - Entréé de Thiviers rond point du Sai
 nt Roch\nGrand banquet populaire annoncé !\nRassemblement cantine populai
 re auto-gérée\n\nRamenez ce qui vous semble opportun : café\, croissant
 s\, trompettes\,\n\nchaises\, caddies\, tables\, bancs\, réchauds\,\n\nvo
 s peurs\, vos colères\, vos rêves...\n\nContact : 07 87 42 79 08\n\n&nbs
 p\;\nLes raisons de notre colère\nLe plan Bayrou\, c’est :\n\n 	Une ann
 ée blanche sans investissement dans les salaires\, les retraites\, ni les
  services publics !\n 	3000 postes supprimés\, un fonctionnaire sur trois
  non remplacé !\n 	5 milliards retirés à la santé\, reste à payer dou
 blé pour les malades !\n 	Deux jours fériés supprimés !\n 	Six jours d
 e carence en cas d’arrêt maladie !\n 	Aucune hausse des aides ni des pe
 nsions !\n\nNous disons NON et appelons toutes les personnes résidant en 
 France métropolitaine et dans les DOM-TOM à se mobiliser contre ce budge
 t !\n\nNous ne voulons pas subir leur crise.\nNous voulons changer de cap\
 , pour de bon\, avec et pour le peuple. Pas contre lui.
CATEGORIES:Militant
LOCATION:Entrée de Thiviers\, Rond point du Saint Roch\, Thiviers\, France
X-APPLE-STRUCTURED-LOCATION;VALUE=URI;X-ADDRESS=Rond point du Saint Roch\, 
 Thiviers\, France;X-APPLE-RADIUS=100;X-TITLE=Entrée de Thiviers:geo:0,0
END:VEVENT
BEGIN:VTIMEZONE
TZID:Europe/Paris
X-LIC-LOCATION:Europe/Paris
BEGIN:DAYLIGHT
DTSTART:20250330T030000
TZOFFSETFROM:+0100
TZOFFSETTO:+0200
TZNAME:CEST
END:DAYLIGHT
END:VTIMEZONE
END:VCALENDAR